BEGIN:VCALENDAR
VERSION:2.0
PRODID:-//Ducktalk - ECPv6.15.20//NONSGML v1.0//EN
CALSCALE:GREGORIAN
METHOD:PUBLISH
X-WR-CALNAME:Ducktalk
X-ORIGINAL-URL:https://sdsuducks.com
X-WR-CALDESC:Events for Ducktalk
REFRESH-INTERVAL;VALUE=DURATION:PT1H
X-Robots-Tag:noindex
X-PUBLISHED-TTL:PT1H
BEGIN:VTIMEZONE
TZID:UTC
BEGIN:STANDARD
TZOFFSETFROM:+0000
TZOFFSETTO:+0000
TZNAME:UTC
DTSTART:20210101T000000
END:STANDARD
END:VTIMEZONE
BEGIN:VTIMEZONE
TZID:America/Los_Angeles
BEGIN:DAYLIGHT
TZOFFSETFROM:-0800
TZOFFSETTO:-0700
TZNAME:PDT
DTSTART:20160313T100000
END:DAYLIGHT
BEGIN:STANDARD
TZOFFSETFROM:-0700
TZOFFSETTO:-0800
TZNAME:PST
DTSTART:20161106T090000
END:STANDARD
BEGIN:DAYLIGHT
TZOFFSETFROM:-0800
TZOFFSETTO:-0700
TZNAME:PDT
DTSTART:20170312T100000
END:DAYLIGHT
BEGIN:STANDARD
TZOFFSETFROM:-0700
TZOFFSETTO:-0800
TZNAME:PST
DTSTART:20171105T090000
END:STANDARD
BEGIN:DAYLIGHT
TZOFFSETFROM:-0800
TZOFFSETTO:-0700
TZNAME:PDT
DTSTART:20180311T100000
END:DAYLIGHT
BEGIN:STANDARD
TZOFFSETFROM:-0700
TZOFFSETTO:-0800
TZNAME:PST
DTSTART:20181104T090000
END:STANDARD
BEGIN:DAYLIGHT
TZOFFSETFROM:-0800
TZOFFSETTO:-0700
TZNAME:PDT
DTSTART:20190310T100000
END:DAYLIGHT
BEGIN:STANDARD
TZOFFSETFROM:-0700
TZOFFSETTO:-0800
TZNAME:PST
DTSTART:20191103T090000
END:STANDARD
BEGIN:DAYLIGHT
TZOFFSETFROM:-0800
TZOFFSETTO:-0700
TZNAME:PDT
DTSTART:20200308T100000
END:DAYLIGHT
BEGIN:STANDARD
TZOFFSETFROM:-0700
TZOFFSETTO:-0800
TZNAME:PST
DTSTART:20201101T090000
END:STANDARD
BEGIN:DAYLIGHT
TZOFFSETFROM:-0800
TZOFFSETTO:-0700
TZNAME:PDT
DTSTART:20210314T100000
END:DAYLIGHT
BEGIN:STANDARD
TZOFFSETFROM:-0700
TZOFFSETTO:-0800
TZNAME:PST
DTSTART:20211107T090000
END:STANDARD
END:VTIMEZONE
BEGIN:VEVENT
DTSTART;TZID=UTC:20220913T180000
DTEND;TZID=UTC:20220922T200000
DTSTAMP:20260424T032753
CREATED:20210908T171859Z
LAST-MODIFIED:20210908T172618Z
UID:7853-1663092000-1663876800@sdsuducks.com
SUMMARY:Fall Rush 2022
DESCRIPTION:Fall Rush 2022\nThe chapter can always use support from the alumni so pleae stop by the chapter house to help these guys have a successful rush. Monday 9/13/2022 to Wednesday\, 9/22/2022 from 6pm to 8pm. \n\nMonday 9/13: dodgeball & pizza\nWednesday 9/15: Mechanical Bull\nThursday 9/16: Games and Grilling\nMonday 9/20: Taco Truck with Alumni\nWednesday 9/22: Invite only (interviews)
URL:https://sdsuducks.com/event/fall-rush-2022-dodgeball-pizza/
LOCATION:Chapter House\, 5545 Hardy Ave\, San Diego\, CA 92115\, USA\, United States
ATTACH;FMTTYPE=image/jpeg:https://sdsuducks.com/wp-content/uploads/2021/07/Men.jpg
END:VEVENT
BEGIN:VEVENT
DTSTART;TZID=America/Los_Angeles:20201209T190000
DTEND;TZID=America/Los_Angeles:20201209T200000
DTSTAMP:20260424T032753
CREATED:20201008T141856Z
LAST-MODIFIED:20210630T070127Z
UID:6439-1607540400-1607544000@sdsuducks.com
SUMMARY:Alumni Board Meeting
DESCRIPTION:Board meetings of the San Diego County Delta Upsilon Alumni Association are open. \nZoom Link: tbd\nMeeting ID: tbd\nPassword: tbd
URL:https://sdsuducks.com/event/alumni-board-meeting-3/
ATTACH;FMTTYPE=image/jpeg:https://sdsuducks.com/wp-content/uploads/2020/10/Meeting.jpg
END:VEVENT
BEGIN:VEVENT
DTSTART;TZID=America/Los_Angeles:20201007T180000
DTEND;TZID=America/Los_Angeles:20201007T190000
DTSTAMP:20260424T032753
CREATED:20200906T234739Z
LAST-MODIFIED:20210701T014948Z
UID:6302-1602093600-1602097200@sdsuducks.com
SUMMARY:Alumni Board Meeting
DESCRIPTION:Board meetings of the San Diego County Delta Upsilon Alumni Association are open. \nZoom Link: https://us02web.zoom.us/j/88513954987?pwd=cjhEZU5VNHY5c3RrbHZ5U254K0E2dz09\nMeeting ID: 885 1395 4987\nPassword: 417707
URL:https://sdsuducks.com/event/alumni-board-meeting-2/
LOCATION:Zoom
ATTACH;FMTTYPE=image/jpeg:https://sdsuducks.com/wp-content/uploads/2020/10/Meeting.jpg
END:VEVENT
BEGIN:VEVENT
DTSTART;VALUE=DATE:20200920
DTEND;VALUE=DATE:20200921
DTSTAMP:20260424T032753
CREATED:20200920T000000Z
LAST-MODIFIED:20210701T015003Z
UID:6405-1600560000-1600646399@sdsuducks.com
SUMMARY:Virtual Leadership Institute
DESCRIPTION:This Sunday\, Sept. 20\, is our long-awaited virtual Leadership Institute! We invite you to join us for our virtual awards show on Sunday at 7 p.m. EDT\, which will stream live on DU’s Facebook and YouTube.
URL:https://sdsuducks.com/event/virtual-leadership-institute/
ATTACH;FMTTYPE=image/jpeg:https://sdsuducks.com/wp-content/uploads/2021/06/bg5-min.jpeg
END:VEVENT
BEGIN:VEVENT
DTSTART;TZID=America/Los_Angeles:20200617T180000
DTEND;TZID=America/Los_Angeles:20200617T190000
DTSTAMP:20260424T032753
CREATED:20200616T211927Z
LAST-MODIFIED:20210701T021235Z
UID:6023-1592416800-1592420400@sdsuducks.com
SUMMARY:Alumni Board Meeting
DESCRIPTION:Board meetings of the San Diego County Delta Upsilon Alumni Association are open. \nZoom Link: https://us02web.zoom.us/j/88513954987?pwd=cjhEZU5VNHY5c3RrbHZ5U254K0E2dz09\nMeeting ID: 885 1395 4987\nPassword: 417707
URL:https://sdsuducks.com/event/alumni-board-meeting/
ATTACH;FMTTYPE=image/jpeg:https://sdsuducks.com/wp-content/uploads/2020/06/IMG-7590-scaled-1.jpg
END:VEVENT
BEGIN:VEVENT
DTSTART;TZID=America/Los_Angeles:20191109T163000
DTEND;TZID=America/Los_Angeles:20191109T210000
DTSTAMP:20260424T032753
CREATED:20191013T143953Z
LAST-MODIFIED:20210701T021239Z
UID:5415-1573317000-1573333200@sdsuducks.com
SUMMARY:Founders Day Tailgate & Football Game vs. Nevada
DESCRIPTION:Come Join us for the 2019 Founders Day Tailgate and Aztec Football\nJoin your bros for fun and football. It’s the Homecoming and Red Towel game (red Rally Towels to the first 10\,000 fans). It starts at 4:30pm and we’ll be tailgating in the same location as last year\, parking area C2. As we normally do\, we’ll have an always-delicious catered BBQ and libations. The more the merrier so bring your family and friends for a great time. \nThe cost for DU Alumni to attend the tailgate is included when you pay your annual dues ($50). Guests are $20. You can also purchase game tickets. We’ll get a block of seats in Plaza Section 18 to 24. Keep in mind\, if you’re interested in going to the game\, we urge you to purchase your ticket as soon as possible. We purchase these tickets in blocks so there are a limited amount. We can purchase another block\, but only if we have enough commitments. \nThe cost for this year’s Founders Day are: \nAlumni Dues (due at Founders Day): $50\nGuests: $20\nGame Tickets: $27 \n\n\n\n\n\n\nAlumni Ticket Options\n\n\n\nAlumni Dues (Founders Free) $50.00 USDGuest $20.00 USDAlumni & Guest $70.00 USDAlumni & Game Ticket $77.00 USDAlumni\, Guest & Tickets $124.00 USDGame Ticket Only $27.00 USD\n\n\n\n\n \n\nNote: You can purchase different quantities of each\, but if you need to purchase multiple options\, you’ll have to do it as a separate purchase.\n \n\n\n\n\n\nUndergraduate Ticket Options\n\n\n\nMember (21 & over) $15.00 USDMember (under 21) $10.00 USD\n\n\n\n\n \n\nNote: For undergraduate game tickets\, please see your chapter president.
URL:https://sdsuducks.com/event/founders-day-tailgate-november-9-2019/
ATTACH;FMTTYPE=image/jpeg:https://sdsuducks.com/wp-content/uploads/2020/06/SDSU-Aztec-Football-u.jpg
END:VEVENT
BEGIN:VEVENT
DTSTART;TZID=America/Los_Angeles:20190218T170000
DTEND;TZID=America/Los_Angeles:20190218T190000
DTSTAMP:20260424T032753
CREATED:20190214T170034Z
LAST-MODIFIED:20210701T021407Z
UID:5383-1550509200-1550516400@sdsuducks.com
SUMMARY:Alumni Rush Taco Night
DESCRIPTION:Rush Alumni Taco Night\n\nRush Alumni Taco Night\, Monday February 18\, 5 to 7 PM\, DU Chapter House\, 5545 Hardy Avenue\, San Diego\n\n\nGrab a bro\, stop by after work\, have some great street tacos\, and help the undergraduates recruit another outstanding new member class. Please note that Taco Night is only two hours this semester\, 5 to 7 PM. So please plan accordingly.\n\n\nYou can pay for parking by the hour when you park two doors down in Lot Q or across 55th Street in Lot 7 Parking Google Map
URL:https://sdsuducks.com/event/alumni-rush-taco-night/
ATTACH;FMTTYPE=image/jpeg:https://sdsuducks.com/wp-content/uploads/2021/06/Tacos.jpg
END:VEVENT
BEGIN:VEVENT
DTSTART;TZID=America/Los_Angeles:20181110T163000
DTEND;TZID=America/Los_Angeles:20181110T193000
DTSTAMP:20260424T032753
CREATED:20180922T224918Z
LAST-MODIFIED:20210701T023345Z
UID:5154-1541867400-1541878200@sdsuducks.com
SUMMARY:Founders Day Tailgate & Football Game vs. UNLV
DESCRIPTION:Founders Day Tailgate & Football Game vs. UNLV\nCome Join us for the 2018 Founders Day Tailgate and Aztec Football\nJoin your bros for fun and football. We’ll be tailgating starting at 4:30 PM in the new location\, parking area C2. The more the merrier so bring your family and friends for a great time. You can purchase game tickets\, event tickets and even pay your dues\, all on this page. See prices below. Game time 7:30 PM \nAs we normally do\, we’ll have an always-delicious catered BBQ and libations. The cost for this year’s Founders Day are: \nGame tickets $25\nAlumni Dues and Founders Day: $50\nGuests: $25\nActives: $15 \nPlease selection the option in the pull down menu below that matches what you want and then click the PayPal button to complete your purchase. \nIf you don’t see an option that fits what you want (Example: two guests or an extra game ticket) just select the option that most closely fits what you want\, make your payment\, and then either: \n\n\n\ngo back for a second round on the PayPal button to get what you want or\nemail Ken Bobadilla kenbobadilla@gmail.com with any additional items you need and pay for those at the game\n\n\n\n\n \n\n\n\n\nAlumni Ticket Options\n\n\n\nAlumni Dues & Founders Day $50.00 USDAlumni Dues\, Founders Day & 1 Football Game Ticket $75.00 USDAlumni Dues\, Founders Day & 1 Guest $75.00 USDAlumni Dues\, Founders Day\, 1 Guest & 2 Football Game Tickets $125.00 USD1 football game ticket $25.00 USD\n\n\n\n\n\n \n\n\n \n\n\n\n\nActives Ticket Options\n\n\n\nActives $15.00 USDActive and one Father $40.00 USDActive and two guests $65.00 USDOne guest $25.00 USD
URL:https://sdsuducks.com/event/founders-day-tailgate-aztec-football/
LOCATION:Qualcomm Stadium\, Friars Rd\, San Diego\, CA 92108\, USA\, Friars\, United States
ATTACH;FMTTYPE=image/jpeg:https://sdsuducks.com/wp-content/uploads/2020/06/SDSU-Aztec-Football-u.jpg
ORGANIZER;CN="Joe Duffel":MAILTO:jdxd@hotmail.com
END:VEVENT
BEGIN:VEVENT
DTSTART;TZID=America/Los_Angeles:20181030T180000
DTEND;TZID=America/Los_Angeles:20181030T200000
DTSTAMP:20260424T032753
CREATED:20180919T224412Z
LAST-MODIFIED:20210701T023345Z
UID:5149-1540922400-1540929600@sdsuducks.com
SUMMARY:Alumni Board of Directors Meeting
DESCRIPTION:Alumni Board of Directors Meeting
URL:https://sdsuducks.com/event/alumni-board-of-directors-meeting/
ATTACH;FMTTYPE=image/jpeg:https://sdsuducks.com/wp-content/uploads/2018/09/DSC_0392-e1512032249262.jpg
ORGANIZER;CN="Ken Bobadilla":MAILTO:kenbobadilla@gmail.com
END:VEVENT
BEGIN:VEVENT
DTSTART;TZID=America/Los_Angeles:20180930T170000
DTEND;TZID=America/Los_Angeles:20180930T180000
DTSTAMP:20260424T032753
CREATED:20180919T225527Z
LAST-MODIFIED:20210701T023345Z
UID:5157-1538326800-1538330400@sdsuducks.com
SUMMARY:Chapter Pinning Ceremony
DESCRIPTION:Chapter Pinning Ceremony
URL:https://sdsuducks.com/event/chapter-pinning-ceremony/
LOCATION:Chapter House\, 5545 Hardy Ave\, San Diego\, CA 92115\, USA\, United States
ATTACH;FMTTYPE=image/jpeg:https://sdsuducks.com/wp-content/uploads/2018/09/DSC_0105-e1512026920658.jpg
ORGANIZER;CN="Kenny Bobadilla":MAILTO:kenbobadilla@gmail.com
END:VEVENT
BEGIN:VEVENT
DTSTART;TZID=America/Los_Angeles:20180917T170000
DTEND;TZID=America/Los_Angeles:20180917T210000
DTSTAMP:20260424T032753
CREATED:20180917T232842Z
LAST-MODIFIED:20210701T023917Z
UID:5163-1537203600-1537218000@sdsuducks.com
SUMMARY:Alumni Taco Monday
DESCRIPTION:Alumni Taco Monday
URL:https://sdsuducks.com/event/alumni-taco-monday/
ATTACH;FMTTYPE=image/jpeg:https://sdsuducks.com/wp-content/uploads/2011/05/2010-Wiffle-Ball-Participants-2.jpg
END:VEVENT
BEGIN:VEVENT
DTSTART;VALUE=DATE:20180910
DTEND;VALUE=DATE:20180911
DTSTAMP:20260424T032753
CREATED:20180919T201256Z
LAST-MODIFIED:20210701T024022Z
UID:5130-1536537600-1536623999@sdsuducks.com
SUMMARY:SDSU Homecoming Football
DESCRIPTION:SDSU Homecoming Football\n2018 Aztec Homecoming Football and Tailgate\nBecause of some strange contractual agreement with the hosting network\, we can’t give out the details of this event yet. Stay tuned and we’ll update you as soon as wel know.
URL:https://sdsuducks.com/event/sdsu-homecoming-football/
ATTACH;FMTTYPE=image/jpeg:https://sdsuducks.com/wp-content/uploads/2020/06/SDSU-Aztec-Football-u.jpg
END:VEVENT
BEGIN:VEVENT
DTSTART;TZID=America/Los_Angeles:20180825T090000
DTEND;TZID=America/Los_Angeles:20180826T190000
DTSTAMP:20260424T032753
CREATED:20180825T233348Z
LAST-MODIFIED:20210701T024146Z
UID:5165-1535187600-1535310000@sdsuducks.com
SUMMARY:2018 Tim McGee Wiffle Ball Classic
DESCRIPTION:2018 Tim McGee Wiffle Ball Classic\nThe weekend starts with no host happy hour meet up at Morey’s Lounge at the Catamaran on Friday. Then get a catered breakfast and lunch along with the usual libations. \nPut together a team of three or sign up as a single and we’ll put you with a few other bros to make a team. this is always a fun event so feel free to bring friends and family and enjoy some time on the beach. Even if you don’t play\, come on by anyway to enjoy the weekend. See you there!
URL:https://sdsuducks.com/event/2018-tim-mcgee-wiffle-ball-classic/
ATTACH;FMTTYPE=:
END:VEVENT
BEGIN:VEVENT
DTSTART;VALUE=DATE:20180824
DTEND;VALUE=DATE:20180825
DTSTAMP:20260424T032753
CREATED:20180824T234154Z
LAST-MODIFIED:20210701T025730Z
UID:5168-1535068800-1535155199@sdsuducks.com
SUMMARY:Happy Hour Meet Up
DESCRIPTION:Happy Hour Meet Up\nIt’s Wiffel Ball weekend and what a better way to start it off with a happy hour meet up the night before. Join us at Morey’s lounge at the Catamaran at around 5pm. Even if you’re not playing in the tournament\, come by and say hello. See you there!
URL:https://sdsuducks.com/event/happy-hour-meet-up/
LOCATION:Catamaran Hotel\, 3999 Mission Blvd\, San Diego\, CA 92109\, United States
ATTACH;FMTTYPE=image/jpeg:https://sdsuducks.com/wp-content/uploads/2016/06/DSCN1560-1-scaled.jpeg
ORGANIZER;CN="Joe Duffel":MAILTO:jdxd@hotmail.com
END:VEVENT
BEGIN:VEVENT
DTSTART;TZID=America/Los_Angeles:20180116T180000
DTEND;TZID=America/Los_Angeles:20180116T200000
DTSTAMP:20260424T032753
CREATED:20180116T234326Z
LAST-MODIFIED:20210701T025734Z
UID:5171-1516125600-1516132800@sdsuducks.com
SUMMARY:Board Meeting
DESCRIPTION:Board Meeting\nBoard meetings are open to the public so come join us for the first board meeting in the new chapter house and the first meeting of the year. For those of you concerned about our financial obligations\, this is an important meeting to attend.\nNo dress code.
URL:https://sdsuducks.com/event/board-meeting/
LOCATION:Chapter House\, 5545 Hardy Ave\, San Diego\, CA 92115\, USA\, United States
ATTACH;FMTTYPE=image/jpeg:https://sdsuducks.com/wp-content/uploads/2021/06/DU-Board-of-Directors.jpg
ORGANIZER;CN="Ken Bobadilla":MAILTO:kenbobadilla@gmail.com
END:VEVENT
BEGIN:VEVENT
DTSTART;TZID=America/Los_Angeles:20171203T170000
DTEND;TZID=America/Los_Angeles:20171203T190000
DTSTAMP:20260424T032753
CREATED:20170119T234703Z
LAST-MODIFIED:20170119T234703Z
UID:5173-1512320400-1512327600@sdsuducks.com
SUMMARY:Initiation Ceremony
DESCRIPTION:Initiation Ceremony\nCome join us for the first initiation ceremony in the new chapter house. This is an exciting time and we now have big pledge classes so come on down and be a part of the new DU. Be sure to wear coat and tie.
URL:https://sdsuducks.com/event/initiation-ceremony/
END:VEVENT
END:VCALENDAR